BEGIN:VCALENDAR
VERSION:2.0
PRODID:-//Brisbane Junior Chamber of Commerce - ECPv4.4.3//NONSGML v1.0//EN
CALSCALE:GREGORIAN
METHOD:PUBLISH
X-WR-CALNAME:Brisbane Junior Chamber of Commerce
X-ORIGINAL-URL:https://bjcc.com.au
X-WR-CALDESC:Events for Brisbane Junior Chamber of Commerce
BEGIN:VEVENT
DTSTART;TZID=Australia/Brisbane:20181213T173000
DTEND;TZID=Australia/Brisbane:20181213T200000
DTSTAMP:20190228T205256
CREATED:20181127T235807Z
LAST-MODIFIED:20181218T050542Z
UID:1929-1544722200-1544731200@bjcc.com.au
SUMMARY:A Merry Little Co-Working HUBmas
DESCRIPTION:As we close out another year and get overrun with all things Santa and prepare those New Years resolutions\, it’s time to let down your hair and enjoy the premier Xmas party of the season and close the year out in style!\n\nAs usual we’ve pulled out all the stops to score a primo location\, Brisbane’s newest co-working community\, Hub Anzac Square. Now\, we can tell what you’re doing right now - trying to figure out where this place is because you’ve not heard of it\, and that’s because it’s THAT NEW and the BJCC will be the first event held there \n\nIt’ll be the usual mix of copious amounts of food\, drinks\, amazing people\, at least one Xmas themed jacket (looking at you Prez) plus a few extra goodies we will reveal later. So\, please form an orderly queue and get buying!
URL:https://bjcc.com.au/event/bjcc-christmas-party/
LOCATION:200 Adelaide Street\, Brisbane City\, QLD\, 4000\, Australia
ATTACH;FMTTYPE=image/jpeg:https://bjcc.com.au/wp-content/uploads/2018/11/47065806_300216080832159_2714921893785239552_n.jpg
END:VEVENT
END:VCALENDAR